BEGIN:VCALENDAR
VERSION:2.0
CALSCALE:GREGORIAN
PRODID:-//Diputació de Barcelona//DibaCMS//EN
BEGIN:VEVENT
UID:23305
DTSTAMP:20260423T045748
DTSTART:20110430T223000
DTEND:20110430T000000
SUMMARY:Correfoc
LOCATION:
METHOD:PUBLISH
X-WR-CALNAME:e-seu@ajpiera.cat
X-WR-TIMEZONE:Europe/Madrid
DESCRIPTION:Correfoc
URI:https://www.viladepiera.cat/actualitat/agenda/23305-correfoc.html
CLASS:PUBLIC
END:VEVENT
END:VCALENDAR
