BEGIN:VCALENDAR
VERSION:2.0
CALSCALE:GREGORIAN
PRODID:-//Diputació de Barcelona//DibaCMS//EN
BEGIN:VEVENT
UID:23306
DTSTAMP:20260423T060457
DTSTART:20110430T235500
DTEND:20110430T000000
SUMMARY:Festa Flaix FM
LOCATION:
METHOD:PUBLISH
X-WR-CALNAME:e-seu@ajpiera.cat
X-WR-TIMEZONE:Europe/Madrid
DESCRIPTION:Festa Flaix FM
URI:https://www.viladepiera.cat/actualitat/agenda/festa-flaix-fm.html
CLASS:PUBLIC
END:VEVENT
END:VCALENDAR
