BEGIN:VCALENDAR
VERSION:2.0
CALSCALE:GREGORIAN
PRODID:-//Diputació de Barcelona//DibaCMS//EN
BEGIN:VEVENT
UID:23309
DTSTAMP:20260423T102740
DTSTART:20110502T000000
DTEND:20110502T000000
SUMMARY:Setmana del Pakistan (inici)
LOCATION:
METHOD:PUBLISH
X-WR-CALNAME:e-seu@ajpiera.cat
X-WR-TIMEZONE:Europe/Madrid
DESCRIPTION:Setmana del Pakistan (inici)

URI:https://www.viladepiera.cat/actualitat/agenda/setmana-del-pakistan-inici.html
CLASS:PUBLIC
END:VEVENT
END:VCALENDAR
