BEGIN:VCALENDAR
VERSION:2.0
CALSCALE:GREGORIAN
PRODID:-//Diputació de Barcelona//DibaCMS//EN
BEGIN:VEVENT
UID:23311
DTSTAMP:20260423T010606
DTSTART:20110504T093000
DTEND:20110504T000000
SUMMARY:Conferència sobre legislació contra la morositat
LOCATION:
METHOD:PUBLISH
X-WR-CALNAME:e-seu@ajpiera.cat
X-WR-TIMEZONE:Europe/Madrid
DESCRIPTION:Conferència sobre legislació contra la morositat
URI:https://www.viladepiera.cat/actualitat/agenda/conferencia-sobre-legislacio-contra-la-morositat.html
CLASS:PUBLIC
END:VEVENT
END:VCALENDAR
