BEGIN:VCALENDAR
VERSION:2.0
CALSCALE:GREGORIAN
PRODID:-//Diputació de Barcelona//DibaCMS//EN
BEGIN:VEVENT
UID:23315
DTSTAMP:20260423T074839
DTSTART:20110508T000000
DTEND:20110508T000000
SUMMARY:Festa de La Cruz de Mayo
LOCATION:
METHOD:PUBLISH
X-WR-CALNAME:e-seu@ajpiera.cat
X-WR-TIMEZONE:Europe/Madrid
DESCRIPTION:Festa de La Cruz de Mayo
URI:https://www.viladepiera.cat/actualitat/agenda/festa-de-la-cruz-de-mayo.html
CLASS:PUBLIC
END:VEVENT
END:VCALENDAR
