BEGIN:VCALENDAR
VERSION:2.0
CALSCALE:GREGORIAN
PRODID:-//Diputació de Barcelona//DibaCMS//EN
BEGIN:VEVENT
UID:23319
DTSTAMP:20260423T025055
DTSTART:20110511T210000
DTEND:20110511T000000
SUMMARY:Ple 11.5.11
LOCATION:
METHOD:PUBLISH
X-WR-CALNAME:e-seu@ajpiera.cat
X-WR-TIMEZONE:Europe/Madrid
DESCRIPTION:Ple 11.5.11
URI:https://www.viladepiera.cat/actualitat/agenda/ple-11511.html
CLASS:PUBLIC
END:VEVENT
END:VCALENDAR
