BEGIN:VCALENDAR
VERSION:2.0
CALSCALE:GREGORIAN
PRODID:-//Diputació de Barcelona//DibaCMS//EN
BEGIN:VEVENT
UID:23320
DTSTAMP:20260423T061642
DTSTART:20110512T080000
DTEND:20110512T000000
SUMMARY:Excursió al Roc de Sant Gaietà
LOCATION:
METHOD:PUBLISH
X-WR-CALNAME:e-seu@ajpiera.cat
X-WR-TIMEZONE:Europe/Madrid
DESCRIPTION:Excursió al Roc de Sant Gaietà
URI:https://www.viladepiera.cat/actualitat/agenda/excursio-al-roc-de-sant-gaieta.html
CLASS:PUBLIC
END:VEVENT
END:VCALENDAR
