BEGIN:VCALENDAR
VERSION:2.0
CALSCALE:GREGORIAN
PRODID:-//Diputació de Barcelona//DibaCMS//EN
BEGIN:VEVENT
UID:23321
DTSTAMP:20260423T015050
DTSTART:20110513T000000
DTEND:20110513T000000
SUMMARY:Activitats esportives
LOCATION:
METHOD:PUBLISH
X-WR-CALNAME:e-seu@ajpiera.cat
X-WR-TIMEZONE:Europe/Madrid
DESCRIPTION:Activitats esportives
URI:https://www.viladepiera.cat/actualitat/agenda/23321-activitats-esportives.html
CLASS:PUBLIC
END:VEVENT
END:VCALENDAR
