BEGIN:VCALENDAR
VERSION:2.0
CALSCALE:GREGORIAN
PRODID:-//Diputació de Barcelona//DibaCMS//EN
BEGIN:VEVENT
UID:23326
DTSTAMP:20260423T025517
DTSTART:20110519T180000
DTEND:20110519T200000
SUMMARY:Ball de tarda i homenatge
LOCATION:
METHOD:PUBLISH
X-WR-CALNAME:e-seu@ajpiera.cat
X-WR-TIMEZONE:Europe/Madrid
DESCRIPTION:Ball de tarda i homenatge
URI:https://www.viladepiera.cat/actualitat/agenda/ball-de-tarda-i-homenatge.html
CLASS:PUBLIC
END:VEVENT
END:VCALENDAR
