BEGIN:VCALENDAR
VERSION:2.0
CALSCALE:GREGORIAN
PRODID:-//Diputació de Barcelona//DibaCMS//EN
BEGIN:VEVENT
UID:23327
DTSTAMP:20260423T024252
DTSTART:20110519T180000
DTEND:20110519T000000
SUMMARY:Espectacle infantil: Va de rondalles
LOCATION:
METHOD:PUBLISH
X-WR-CALNAME:e-seu@ajpiera.cat
X-WR-TIMEZONE:Europe/Madrid
DESCRIPTION:Espectacle infantil: Va de rondalles
URI:https://www.viladepiera.cat/actualitat/agenda/espectacle-infantil-va-de-rondalles.html
CLASS:PUBLIC
END:VEVENT
END:VCALENDAR
