BEGIN:VCALENDAR
VERSION:2.0
CALSCALE:GREGORIAN
PRODID:-//Diputació de Barcelona//DibaCMS//EN
BEGIN:VEVENT
UID:23330
DTSTAMP:20260423T040043
DTSTART:20110521T183000
DTEND:20110521T183000
SUMMARY:Descobreix el Marroc
LOCATION:
METHOD:PUBLISH
X-WR-CALNAME:e-seu@ajpiera.cat
X-WR-TIMEZONE:Europe/Madrid
DESCRIPTION:Descobreix el Marroc

URI:https://www.viladepiera.cat/actualitat/agenda/descobreix-el-marroc.html
CLASS:PUBLIC
END:VEVENT
END:VCALENDAR
