BEGIN:VCALENDAR
VERSION:2.0
CALSCALE:GREGORIAN
PRODID:-//Diputació de Barcelona//DibaCMS//EN
BEGIN:VEVENT
UID:23332
DTSTAMP:20260423T074110
DTSTART:20110522T090000
DTEND:20110522T200000
SUMMARY:Eleccions Municipals 2011
LOCATION:
METHOD:PUBLISH
X-WR-CALNAME:e-seu@ajpiera.cat
X-WR-TIMEZONE:Europe/Madrid
DESCRIPTION:Eleccions Municipals 2011

URI:https://www.viladepiera.cat/actualitat/agenda/eleccions-municipals-2011.html
CLASS:PUBLIC
END:VEVENT
END:VCALENDAR
