BEGIN:VCALENDAR
VERSION:2.0
CALSCALE:GREGORIAN
PRODID:-//Diputació de Barcelona//DibaCMS//EN
BEGIN:VEVENT
UID:23335
DTSTAMP:20260423T051121
DTSTART:20110527T220000
DTEND:20110527T000000
SUMMARY:Teatre: Madame Ruiseñor
LOCATION:
METHOD:PUBLISH
X-WR-CALNAME:e-seu@ajpiera.cat
X-WR-TIMEZONE:Europe/Madrid
DESCRIPTION:Teatre: Madame Ruiseñor
URI:https://www.viladepiera.cat/actualitat/agenda/23335-teatre-madame-ruisenor.html
CLASS:PUBLIC
END:VEVENT
END:VCALENDAR
