BEGIN:VCALENDAR
VERSION:2.0
CALSCALE:GREGORIAN
PRODID:-//Diputació de Barcelona//DibaCMS//EN
BEGIN:VEVENT
UID:23337
DTSTAMP:20260423T074717
DTSTART:20110529T100000
DTEND:20110529T000000
SUMMARY:Excursió a la Pineda
LOCATION:
METHOD:PUBLISH
X-WR-CALNAME:e-seu@ajpiera.cat
X-WR-TIMEZONE:Europe/Madrid
DESCRIPTION:Excursió a la Pineda
URI:https://www.viladepiera.cat/actualitat/agenda/23337-excursio-a-la-pineda.html
CLASS:PUBLIC
END:VEVENT
END:VCALENDAR
