BEGIN:VCALENDAR
VERSION:2.0
CALSCALE:GREGORIAN
PRODID:-//Diputació de Barcelona//DibaCMS//EN
BEGIN:VEVENT
UID:23339
DTSTAMP:20260423T034807
DTSTART:20110601T190000
DTEND:20110601T000000
SUMMARY:Viatge pel sistema solar en 3D
LOCATION:
METHOD:PUBLISH
X-WR-CALNAME:e-seu@ajpiera.cat
X-WR-TIMEZONE:Europe/Madrid
DESCRIPTION:Viatge pel sistema solar en 3D
URI:https://www.viladepiera.cat/actualitat/agenda/viatge-pel-sistema-solar-en-3d.html
CLASS:PUBLIC
END:VEVENT
END:VCALENDAR
