BEGIN:VCALENDAR
VERSION:2.0
CALSCALE:GREGORIAN
PRODID:-//Diputació de Barcelona//DibaCMS//EN
BEGIN:VEVENT
UID:23344
DTSTAMP:20260423T051404
DTSTART:20110604T120000
DTEND:20110604T000000
SUMMARY:Inauguració de l'exposició: Trazos de Zúñiga
LOCATION:
METHOD:PUBLISH
X-WR-CALNAME:e-seu@ajpiera.cat
X-WR-TIMEZONE:Europe/Madrid
DESCRIPTION:Inauguració de l'exposició: Trazos de Zúñiga
URI:https://www.viladepiera.cat/actualitat/agenda/inauguracio-de-lexposicio-trazos-de-zuniga.html
CLASS:PUBLIC
END:VEVENT
END:VCALENDAR
