BEGIN:VCALENDAR
VERSION:2.0
CALSCALE:GREGORIAN
PRODID:-//Diputació de Barcelona//DibaCMS//EN
BEGIN:VEVENT
UID:23346
DTSTAMP:20260423T044556
DTSTART:20110605T110000
DTEND:20110605T130000
SUMMARY:Festival de natació sincronitzada
LOCATION:
METHOD:PUBLISH
X-WR-CALNAME:e-seu@ajpiera.cat
X-WR-TIMEZONE:Europe/Madrid
DESCRIPTION:Festival de natació sincronitzada
URI:https://www.viladepiera.cat/actualitat/agenda/festival-de-natacio-sincronitzada.html
CLASS:PUBLIC
END:VEVENT
END:VCALENDAR
