BEGIN:VCALENDAR
VERSION:2.0
CALSCALE:GREGORIAN
PRODID:-//Diputació de Barcelona//DibaCMS//EN
BEGIN:VEVENT
UID:23349
DTSTAMP:20260423T034216
DTSTART:20110607T123000
DTEND:20110607T000000
SUMMARY:Presentació web Piera Intercanvia
LOCATION:
METHOD:PUBLISH
X-WR-CALNAME:e-seu@ajpiera.cat
X-WR-TIMEZONE:Europe/Madrid
DESCRIPTION:Presentació web Piera Intercanvia
URI:https://www.viladepiera.cat/actualitat/agenda/presentacio-web-piera-intercanvia.html
CLASS:PUBLIC
END:VEVENT
END:VCALENDAR
