BEGIN:VCALENDAR
VERSION:2.0
CALSCALE:GREGORIAN
PRODID:-//Diputació de Barcelona//DibaCMS//EN
BEGIN:VEVENT
UID:23351
DTSTAMP:20260423T073401
DTSTART:20110608T210000
DTEND:20110608T000000
SUMMARY:Ple Extraordinari
LOCATION:
METHOD:PUBLISH
X-WR-CALNAME:e-seu@ajpiera.cat
X-WR-TIMEZONE:Europe/Madrid
DESCRIPTION:Ple Extraordinari
URI:https://www.viladepiera.cat/actualitat/agenda/23351-ple-extraordinari.html
CLASS:PUBLIC
END:VEVENT
END:VCALENDAR
