BEGIN:VCALENDAR
VERSION:2.0
CALSCALE:GREGORIAN
PRODID:-//Diputació de Barcelona//DibaCMS//EN
BEGIN:VEVENT
UID:23359
DTSTAMP:20260423T071438
DTSTART:20110616T180000
DTEND:20110616T000000
SUMMARY:Espectacle infantil: El perquè de les coses
LOCATION:
METHOD:PUBLISH
X-WR-CALNAME:e-seu@ajpiera.cat
X-WR-TIMEZONE:Europe/Madrid
DESCRIPTION:Espectacle infantil: El perquè de les coses
URI:https://www.viladepiera.cat/actualitat/agenda/espectacle-infantil-el-perque-de-les-coses.html
CLASS:PUBLIC
END:VEVENT
END:VCALENDAR
