BEGIN:VCALENDAR
VERSION:2.0
CALSCALE:GREGORIAN
PRODID:-//Diputació de Barcelona//DibaCMS//EN
BEGIN:VEVENT
UID:23360
DTSTAMP:20260422T235210
DTSTART:20110617T184500
DTEND:20110617T000000
SUMMARY:Club de finances per a no financers
LOCATION:
METHOD:PUBLISH
X-WR-CALNAME:e-seu@ajpiera.cat
X-WR-TIMEZONE:Europe/Madrid
DESCRIPTION:Club de finances per a no financers
URI:https://www.viladepiera.cat/actualitat/agenda/23360-club-de-finances-per-a-no-financers.html
CLASS:PUBLIC
END:VEVENT
END:VCALENDAR
