BEGIN:VCALENDAR
VERSION:2.0
CALSCALE:GREGORIAN
PRODID:-//Diputació de Barcelona//DibaCMS//EN
BEGIN:VEVENT
UID:23361
DTSTAMP:20260423T075054
DTSTART:20110617T223000
DTEND:20110617T223000
SUMMARY:Ruta dels Músics
LOCATION:
METHOD:PUBLISH
X-WR-CALNAME:e-seu@ajpiera.cat
X-WR-TIMEZONE:Europe/Madrid
DESCRIPTION:Ruta dels Músics

URI:https://www.viladepiera.cat/actualitat/agenda/23361-ruta-dels-musics.html
CLASS:PUBLIC
END:VEVENT
END:VCALENDAR
