BEGIN:VCALENDAR
VERSION:2.0
CALSCALE:GREGORIAN
PRODID:-//Diputació de Barcelona//DibaCMS//EN
BEGIN:VEVENT
UID:23363
DTSTAMP:20260423T052550
DTSTART:20110618T000000
DTEND:20110619T000000
SUMMARY:Festa del barri dels Gats
LOCATION:
METHOD:PUBLISH
X-WR-CALNAME:e-seu@ajpiera.cat
X-WR-TIMEZONE:Europe/Madrid
DESCRIPTION:Festa del barri dels Gats

URI:https://www.viladepiera.cat/actualitat/agenda/23363-festa-del-barri-dels-gats.html
CLASS:PUBLIC
END:VEVENT
END:VCALENDAR
