BEGIN:VCALENDAR
VERSION:2.0
CALSCALE:GREGORIAN
PRODID:-//Diputació de Barcelona//DibaCMS//EN
BEGIN:VEVENT
UID:23366
DTSTAMP:20260423T114326
DTSTART:20110619T110000
DTEND:20110619T130000
SUMMARY:Festival final de curs activitats dirigides infantils
LOCATION:
METHOD:PUBLISH
X-WR-CALNAME:e-seu@ajpiera.cat
X-WR-TIMEZONE:Europe/Madrid
DESCRIPTION:Festival final de curs activitats dirigides infantils
URI:https://www.viladepiera.cat/actualitat/agenda/festival-final-de-curs-activitats-dirigides-infantils.html
CLASS:PUBLIC
END:VEVENT
END:VCALENDAR
