BEGIN:VCALENDAR
VERSION:2.0
CALSCALE:GREGORIAN
PRODID:-//Diputació de Barcelona//DibaCMS//EN
BEGIN:VEVENT
UID:23370
DTSTAMP:20260423T102608
DTSTART:20110623T000000
DTEND:20110623T000000
SUMMARY:Revetlles de Sant Joan (barris)
LOCATION:
METHOD:PUBLISH
X-WR-CALNAME:e-seu@ajpiera.cat
X-WR-TIMEZONE:Europe/Madrid
DESCRIPTION:Revetlles de Sant Joan (barris)
URI:https://www.viladepiera.cat/actualitat/agenda/revetlles-de-sant-joan-barris.html
CLASS:PUBLIC
END:VEVENT
END:VCALENDAR
