BEGIN:VCALENDAR
VERSION:2.0
CALSCALE:GREGORIAN
PRODID:-//Diputació de Barcelona//DibaCMS//EN
BEGIN:VEVENT
UID:23371
DTSTAMP:20260423T024025
DTSTART:20110623T000000
DTEND:20110623T000000
SUMMARY:Revetlla de Sant Joan 2011
LOCATION:
METHOD:PUBLISH
X-WR-CALNAME:e-seu@ajpiera.cat
X-WR-TIMEZONE:Europe/Madrid
DESCRIPTION:Revetlla de Sant Joan 2011

URI:https://www.viladepiera.cat/actualitat/agenda/revetlla-de-sant-joan-2011.html
CLASS:PUBLIC
END:VEVENT
END:VCALENDAR
