BEGIN:VCALENDAR
VERSION:2.0
CALSCALE:GREGORIAN
PRODID:-//Diputació de Barcelona//DibaCMS//EN
BEGIN:VEVENT
UID:23374
DTSTAMP:20260423T023051
DTSTART:20110625T210000
DTEND:20110625T000000
SUMMARY:Sopar  de l'AVIACAP
LOCATION:
METHOD:PUBLISH
X-WR-CALNAME:e-seu@ajpiera.cat
X-WR-TIMEZONE:Europe/Madrid
DESCRIPTION:Sopar  de l'AVIACAP
URI:https://www.viladepiera.cat/actualitat/agenda/sopar-de-laviacap.html
CLASS:PUBLIC
END:VEVENT
END:VCALENDAR
