BEGIN:VCALENDAR
VERSION:2.0
CALSCALE:GREGORIAN
PRODID:-//Diputació de Barcelona//DibaCMS//EN
BEGIN:VEVENT
UID:23375
DTSTAMP:20260423T060933
DTSTART:20110626T100000
DTEND:20110626T000000
SUMMARY:Excursió: Piera-Hostalets-Piera
LOCATION:
METHOD:PUBLISH
X-WR-CALNAME:e-seu@ajpiera.cat
X-WR-TIMEZONE:Europe/Madrid
DESCRIPTION:Excursió: Piera-Hostalets-Piera
URI:https://www.viladepiera.cat/actualitat/agenda/excursio-piera-hostalets-piera.html
CLASS:PUBLIC
END:VEVENT
END:VCALENDAR
