BEGIN:VCALENDAR
VERSION:2.0
CALSCALE:GREGORIAN
PRODID:-//Diputació de Barcelona//DibaCMS//EN
BEGIN:VEVENT
UID:23376
DTSTAMP:20260423T045551
DTSTART:20110626T193000
DTEND:20110626T000000
SUMMARY:Ball de tarda
LOCATION:
METHOD:PUBLISH
X-WR-CALNAME:e-seu@ajpiera.cat
X-WR-TIMEZONE:Europe/Madrid
DESCRIPTION:Ball de tarda
URI:https://www.viladepiera.cat/actualitat/agenda/23376-ball-de-tarda.html
CLASS:PUBLIC
END:VEVENT
END:VCALENDAR
