BEGIN:VCALENDAR
VERSION:2.0
CALSCALE:GREGORIAN
PRODID:-//Diputació de Barcelona//DibaCMS//EN
BEGIN:VEVENT
UID:23378
DTSTAMP:20260423T022610
DTSTART:20110628T180000
DTEND:20110628T180000
SUMMARY:Xerrada: Planificació de futur
LOCATION:
METHOD:PUBLISH
X-WR-CALNAME:e-seu@ajpiera.cat
X-WR-TIMEZONE:Europe/Madrid
DESCRIPTION:Xerrada: Planificació de futur

URI:https://www.viladepiera.cat/actualitat/agenda/xerrada-planificacio-de-futur.html
CLASS:PUBLIC
END:VEVENT
END:VCALENDAR
