BEGIN:VCALENDAR
VERSION:2.0
CALSCALE:GREGORIAN
PRODID:-//Diputació de Barcelona//DibaCMS//EN
BEGIN:VEVENT
UID:23379
DTSTAMP:20260423T010757
DTSTART:20110701T220000
DTEND:20110701T000000
SUMMARY:Nits d'estiu a Ca n'Aguilera
LOCATION:
METHOD:PUBLISH
X-WR-CALNAME:e-seu@ajpiera.cat
X-WR-TIMEZONE:Europe/Madrid
DESCRIPTION:Nits d'estiu a Ca n'Aguilera
URI:https://www.viladepiera.cat/actualitat/agenda/nits-destiu-a-ca-naguilera.html
CLASS:PUBLIC
END:VEVENT
END:VCALENDAR
