BEGIN:VCALENDAR
VERSION:2.0
CALSCALE:GREGORIAN
PRODID:-//Diputació de Barcelona//DibaCMS//EN
BEGIN:VEVENT
UID:23380
DTSTAMP:20260423T061248
DTSTART:20110702T000000
DTEND:20110703T000000
SUMMARY:Festa de la Diversitat
LOCATION:
METHOD:PUBLISH
X-WR-CALNAME:e-seu@ajpiera.cat
X-WR-TIMEZONE:Europe/Madrid
DESCRIPTION:Festa de la Diversitat

URI:https://www.viladepiera.cat/actualitat/agenda/23380-festa-de-la-diversitat.html
CLASS:PUBLIC
END:VEVENT
END:VCALENDAR
