BEGIN:VCALENDAR
VERSION:2.0
CALSCALE:GREGORIAN
PRODID:-//Diputació de Barcelona//DibaCMS//EN
BEGIN:VEVENT
UID:23381
DTSTAMP:20260423T132544
DTSTART:20110703T120000
DTEND:20110703T000000
SUMMARY:Trobada de Falcons de Catalunya
LOCATION:
METHOD:PUBLISH
X-WR-CALNAME:e-seu@ajpiera.cat
X-WR-TIMEZONE:Europe/Madrid
DESCRIPTION:Trobada de Falcons de Catalunya
URI:https://www.viladepiera.cat/actualitat/agenda/trobada-de-falcons-de-catalunya.html
CLASS:PUBLIC
END:VEVENT
END:VCALENDAR
