BEGIN:VCALENDAR
VERSION:2.0
CALSCALE:GREGORIAN
PRODID:-//Diputació de Barcelona//DibaCMS//EN
BEGIN:VEVENT
UID:23382
DTSTAMP:20260423T051156
DTSTART:20110708T210000
DTEND:20110709T230000
SUMMARY:Festa Galega
LOCATION:
METHOD:PUBLISH
X-WR-CALNAME:e-seu@ajpiera.cat
X-WR-TIMEZONE:Europe/Madrid
DESCRIPTION:Festa Galega

URI:https://www.viladepiera.cat/actualitat/agenda/23382-festa-galega.html
CLASS:PUBLIC
END:VEVENT
END:VCALENDAR
