BEGIN:VCALENDAR
VERSION:2.0
CALSCALE:GREGORIAN
PRODID:-//Diputació de Barcelona//DibaCMS//EN
BEGIN:VEVENT
UID:23383
DTSTAMP:20260423T011828
DTSTART:20110708T220000
DTEND:20110708T000000
SUMMARY:Cor Carlit (MEV 2011) 
LOCATION:
METHOD:PUBLISH
X-WR-CALNAME:e-seu@ajpiera.cat
X-WR-TIMEZONE:Europe/Madrid
DESCRIPTION:Cor Carlit (MEV 2011) 
URI:https://www.viladepiera.cat/actualitat/agenda/cor-carlit-mev-2011-.html
CLASS:PUBLIC
END:VEVENT
END:VCALENDAR
