BEGIN:VCALENDAR
VERSION:2.0
CALSCALE:GREGORIAN
PRODID:-//Diputació de Barcelona//DibaCMS//EN
BEGIN:VEVENT
UID:23384
DTSTAMP:20260422T223912
DTSTART:20110709T000000
DTEND:20110710T000000
SUMMARY:Barri Montserrat
LOCATION:
METHOD:PUBLISH
X-WR-CALNAME:e-seu@ajpiera.cat
X-WR-TIMEZONE:Europe/Madrid
DESCRIPTION:Barri Montserrat

URI:https://www.viladepiera.cat/actualitat/agenda/barri-montserrat.html
CLASS:PUBLIC
END:VEVENT
END:VCALENDAR
