BEGIN:VCALENDAR
VERSION:2.0
CALSCALE:GREGORIAN
PRODID:-//Diputació de Barcelona//DibaCMS//EN
BEGIN:VEVENT
UID:23385
DTSTAMP:20260423T093243
DTSTART:20110709T230000
DTEND:20110709T230000
SUMMARY:Concert concurs Castanyada Rock
LOCATION:
METHOD:PUBLISH
X-WR-CALNAME:e-seu@ajpiera.cat
X-WR-TIMEZONE:Europe/Madrid
DESCRIPTION:Concert concurs Castanyada Rock

URI:https://www.viladepiera.cat/actualitat/agenda/concert-concurs-castanyada-rock.html
CLASS:PUBLIC
END:VEVENT
END:VCALENDAR
