BEGIN:VCALENDAR
VERSION:2.0
CALSCALE:GREGORIAN
PRODID:-//Diputació de Barcelona//DibaCMS//EN
BEGIN:VEVENT
UID:23387
DTSTAMP:20260422T201318
DTSTART:20110714T000000
DTEND:20110717T000000
SUMMARY:Festa Major de La Fortesa
LOCATION:
METHOD:PUBLISH
X-WR-CALNAME:e-seu@ajpiera.cat
X-WR-TIMEZONE:Europe/Madrid
DESCRIPTION:Festa Major de La Fortesa

URI:https://www.viladepiera.cat/actualitat/agenda/23387-festa-major-de-la-fortesa.html
CLASS:PUBLIC
END:VEVENT
END:VCALENDAR
