BEGIN:VCALENDAR
VERSION:2.0
CALSCALE:GREGORIAN
PRODID:-//Diputació de Barcelona//DibaCMS//EN
BEGIN:VEVENT
UID:23388
DTSTAMP:20260423T003842
DTSTART:20110715T000000
DTEND:20110717T000000
SUMMARY:Festa Major de Ca n'Aguilera
LOCATION:
METHOD:PUBLISH
X-WR-CALNAME:e-seu@ajpiera.cat
X-WR-TIMEZONE:Europe/Madrid
DESCRIPTION:Festa Major de Ca n'Aguilera

URI:https://www.viladepiera.cat/actualitat/agenda/23388-festa-major-de-ca-naguilera.html
CLASS:PUBLIC
END:VEVENT
END:VCALENDAR
