BEGIN:VCALENDAR
VERSION:2.0
CALSCALE:GREGORIAN
PRODID:-//Diputació de Barcelona//DibaCMS//EN
BEGIN:VEVENT
UID:23389
DTSTAMP:20260423T061931
DTSTART:20110715T000000
DTEND:20110717T000000
SUMMARY:Festa Major del Portell
LOCATION:
METHOD:PUBLISH
X-WR-CALNAME:e-seu@ajpiera.cat
X-WR-TIMEZONE:Europe/Madrid
DESCRIPTION:Festa Major del Portell

URI:https://www.viladepiera.cat/actualitat/agenda/festa-major-del-portell.html
CLASS:PUBLIC
END:VEVENT
END:VCALENDAR
