BEGIN:VCALENDAR
VERSION:2.0
CALSCALE:GREGORIAN
PRODID:-//Diputació de Barcelona//DibaCMS//EN
BEGIN:VEVENT
UID:23390
DTSTAMP:20260422T212619
DTSTART:20110715T220000
DTEND:20110715T000000
SUMMARY:Coral Tríola (MEV 2011)
LOCATION:
METHOD:PUBLISH
X-WR-CALNAME:e-seu@ajpiera.cat
X-WR-TIMEZONE:Europe/Madrid
DESCRIPTION:Coral Tríola (MEV 2011)
URI:https://www.viladepiera.cat/actualitat/agenda/coral-triola-mev-2011.html
CLASS:PUBLIC
END:VEVENT
END:VCALENDAR
