BEGIN:VCALENDAR
VERSION:2.0
CALSCALE:GREGORIAN
PRODID:-//Diputació de Barcelona//DibaCMS//EN
BEGIN:VEVENT
UID:23391
DTSTAMP:20260423T000053
DTSTART:20110716T213000
DTEND:20110716T233000
SUMMARY:Festival de Patinatge Artístic
LOCATION:
METHOD:PUBLISH
X-WR-CALNAME:e-seu@ajpiera.cat
X-WR-TIMEZONE:Europe/Madrid
DESCRIPTION:Festival de Patinatge Artístic
URI:https://www.viladepiera.cat/actualitat/agenda/festival-de-patinatge-artistic.html
CLASS:PUBLIC
END:VEVENT
END:VCALENDAR
