BEGIN:VCALENDAR
VERSION:2.0
CALSCALE:GREGORIAN
PRODID:-//Diputació de Barcelona//DibaCMS//EN
BEGIN:VEVENT
UID:23394
DTSTAMP:20260422T235254
DTSTART:20110718T193000
DTEND:20110718T203000
SUMMARY:Combatem el mosquit tigre
LOCATION:
METHOD:PUBLISH
X-WR-CALNAME:e-seu@ajpiera.cat
X-WR-TIMEZONE:Europe/Madrid
DESCRIPTION:Combatem el mosquit tigre
URI:https://www.viladepiera.cat/actualitat/agenda/combatem-el-mosquit-tigre.html
CLASS:PUBLIC
END:VEVENT
END:VCALENDAR
