BEGIN:VCALENDAR
VERSION:2.0
CALSCALE:GREGORIAN
PRODID:-//Diputació de Barcelona//DibaCMS//EN
BEGIN:VEVENT
UID:23397
DTSTAMP:20260423T055716
DTSTART:20110722T000000
DTEND:20110724T000000
SUMMARY:Barri de La Plana-Fàbrica Nova
LOCATION:
METHOD:PUBLISH
X-WR-CALNAME:e-seu@ajpiera.cat
X-WR-TIMEZONE:Europe/Madrid
DESCRIPTION:Barri de La Plana-Fàbrica Nova

URI:https://www.viladepiera.cat/actualitat/agenda/barri-de-la-plana-fabrica-nova.html
CLASS:PUBLIC
END:VEVENT
END:VCALENDAR
