BEGIN:VCALENDAR
VERSION:2.0
CALSCALE:GREGORIAN
PRODID:-//Diputació de Barcelona//DibaCMS//EN
BEGIN:VEVENT
UID:23400
DTSTAMP:20260423T095436
DTSTART:20110723T220000
DTEND:20110723T000000
SUMMARY:Excursió de nit a Can Sagristà i Ca n'Aguilera
LOCATION:
METHOD:PUBLISH
X-WR-CALNAME:e-seu@ajpiera.cat
X-WR-TIMEZONE:Europe/Madrid
DESCRIPTION:Excursió de nit a Can Sagristà i Ca n'Aguilera
URI:https://www.viladepiera.cat/actualitat/agenda/excursio-de-nit-a-can-sagrista-i-ca-naguilera.html
CLASS:PUBLIC
END:VEVENT
END:VCALENDAR
