BEGIN:VCALENDAR
VERSION:2.0
CALSCALE:GREGORIAN
PRODID:-//Diputació de Barcelona//DibaCMS//EN
BEGIN:VEVENT
UID:23401
DTSTAMP:20260423T132453
DTSTART:20110723T090000
DTEND:20110723T140000
SUMMARY:Acapte de Sang
LOCATION:
METHOD:PUBLISH
X-WR-CALNAME:e-seu@ajpiera.cat
X-WR-TIMEZONE:Europe/Madrid
DESCRIPTION:Acapte de Sang

URI:https://www.viladepiera.cat/actualitat/agenda/23401-acapte-de-sang.html
CLASS:PUBLIC
END:VEVENT
END:VCALENDAR
