BEGIN:VCALENDAR
VERSION:2.0
CALSCALE:GREGORIAN
PRODID:-//Diputació de Barcelona//DibaCMS//EN
BEGIN:VEVENT
UID:23402
DTSTAMP:20260423T022305
DTSTART:20110723T183000
DTEND:20110723T000000
SUMMARY:I Travessa Can Bou-Sant Jaume
LOCATION:
METHOD:PUBLISH
X-WR-CALNAME:e-seu@ajpiera.cat
X-WR-TIMEZONE:Europe/Madrid
DESCRIPTION:I Travessa Can Bou-Sant Jaume
URI:https://www.viladepiera.cat/actualitat/agenda/i-travessa-can-bou-sant-jaume.html
CLASS:PUBLIC
END:VEVENT
END:VCALENDAR
