BEGIN:VCALENDAR
VERSION:2.0
CALSCALE:GREGORIAN
PRODID:-//Diputació de Barcelona//DibaCMS//EN
BEGIN:VEVENT
UID:23403
DTSTAMP:20260423T033710
DTSTART:20110723T000000
DTEND:20110723T000000
SUMMARY:Campionat de Catalunya de Futbol Platja
LOCATION:
METHOD:PUBLISH
X-WR-CALNAME:e-seu@ajpiera.cat
X-WR-TIMEZONE:Europe/Madrid
DESCRIPTION:Campionat de Catalunya de Futbol Platja

URI:https://www.viladepiera.cat/actualitat/agenda/campionat-de-catalunya-de-futbol-platja.html
CLASS:PUBLIC
END:VEVENT
END:VCALENDAR
