BEGIN:VCALENDAR
VERSION:2.0
CALSCALE:GREGORIAN
PRODID:-//Diputació de Barcelona//DibaCMS//EN
BEGIN:VEVENT
UID:23404
DTSTAMP:20260423T172751
DTSTART:20110723T220000
DTEND:20110723T000000
SUMMARY:Piera de nit
LOCATION:
METHOD:PUBLISH
X-WR-CALNAME:e-seu@ajpiera.cat
X-WR-TIMEZONE:Europe/Madrid
DESCRIPTION:Piera de nit
URI:https://www.viladepiera.cat/actualitat/agenda/piera-de-nit.html
CLASS:PUBLIC
END:VEVENT
END:VCALENDAR
