BEGIN:VCALENDAR
VERSION:2.0
CALSCALE:GREGORIAN
PRODID:-//Diputació de Barcelona//DibaCMS//EN
BEGIN:VEVENT
UID:23406
DTSTAMP:20260423T172453
DTSTART:20110725T220000
DTEND:20110729T000000
SUMMARY:IV Setmana del Terror
LOCATION:
METHOD:PUBLISH
X-WR-CALNAME:e-seu@ajpiera.cat
X-WR-TIMEZONE:Europe/Madrid
DESCRIPTION:IV Setmana del Terror
URI:https://www.viladepiera.cat/actualitat/agenda/iv-setmana-del-terror.html
CLASS:PUBLIC
END:VEVENT
END:VCALENDAR
